BEGIN:VCALENDAR
VERSION:2.0
PRODID:-//Fundación para el Fomento de la Economía Social - FFES - ECPv5.0.0.1//NONSGML v1.0//EN
CALSCALE:GREGORIAN
METHOD:PUBLISH
X-WR-CALNAME:Fundación para el Fomento de la Economía Social - FFES
X-ORIGINAL-URL:https://ffes.org
X-WR-CALDESC:Eventos para Fundación para el Fomento de la Economía Social - FFES
BEGIN:VTIMEZONE
TZID:Europe/Madrid
BEGIN:DAYLIGHT
TZOFFSETFROM:+0100
TZOFFSETTO:+0200
TZNAME:CEST
DTSTART:20240331T010000
END:DAYLIGHT
BEGIN:STANDARD
TZOFFSETFROM:+0200
TZOFFSETTO:+0100
TZNAME:CET
DTSTART:20241027T010000
END:STANDARD
END:VTIMEZONE
BEGIN:VEVENT
DTSTART;TZID=Europe/Madrid:20240418T093000
DTEND;TZID=Europe/Madrid:20240418T143000
DTSTAMP:20260423T093913
CREATED:20240405T074231Z
LAST-MODIFIED:20240405T074231Z
UID:4698-1713432600-1713450600@ffes.org
SUMMARY:JORNADA RETO DEMOGRÁFICO Y ECONOMÍA SOCIAL (ESER)
DESCRIPTION:El día 18 de abril se celebrará en el Edificio de Servicios Públicos del Principado de Asturias (EASMU) la jornada “Reto demográfico y Economía Social: aportaciones a la transformación del territorio ”. \nDicha jornada tiene lugar en el marco de la incorporación del Principado de Asturias a la red europea de regiones de economía social\, iniciativa promovida por la Comisión Europea con el objetivo de apoyar en Europa las políticas relacionadas con la economía social\, siendo la Fundación para el Fomento de la Economía Social la entidad que representa al Principado de Asturias en esta Red. \nPrograma de la jornada \nInscripción a la jornada: \n
URL:https://ffes.org/evento/jornada-reto-demografico-y-economia-social-eser/
END:VEVENT
END:VCALENDAR