BEGIN:VCALENDAR
VERSION:2.0
PRODID:-//Fundación para el Fomento de la Economía Social - FFES - ECPv5.0.0.1//NONSGML v1.0//EN
CALSCALE:GREGORIAN
METHOD:PUBLISH
X-WR-CALNAME:Fundación para el Fomento de la Economía Social - FFES
X-ORIGINAL-URL:https://ffes.org
X-WR-CALDESC:Eventos para Fundación para el Fomento de la Economía Social - FFES
BEGIN:VTIMEZONE
TZID:Europe/Madrid
BEGIN:DAYLIGHT
TZOFFSETFROM:+0100
TZOFFSETTO:+0200
TZNAME:CEST
DTSTART:20190331T010000
END:DAYLIGHT
BEGIN:STANDARD
TZOFFSETFROM:+0200
TZOFFSETTO:+0100
TZNAME:CET
DTSTART:20191027T010000
END:STANDARD
END:VTIMEZONE
BEGIN:VEVENT
DTSTART;TZID=Europe/Madrid:20191202T093000
DTEND;TZID=Europe/Madrid:20191202T150000
DTSTAMP:20260421T121043
CREATED:20191128T091923Z
LAST-MODIFIED:20191128T110839Z
UID:3373-1575279000-1575298800@ffes.org
SUMMARY:JORNADA: EMPRESAS DE INSERCIÓN\, IGUALDAD\, CONTRA LA VIOLENCIA MACHISTA
DESCRIPTION:La Fundación para el Fomento de la Economía Social (FFES) y la Escuela de Emprendedoras y Empresarias de Asturias (EEEA) organizan una jornada para el próximo lunes 2 diciembre\, de 9h30 a 15h\, bajo el título “Empresas de inserción\, Empresas por la igualdad: Empresas contra la violencia machista”. \nLa Jornada contará con un interesante panel de profesionales\, representantes de diferentes entidades y empresas\, de Madrid\, Zaragoza\, Tenerife y Asturias. \nPrograma \n
URL:https://ffes.org/evento/jornada-empresas-de-insercion-igualdad-contra-la-violencia-de-genero/
LOCATION:Avenida de Oviedo\, 11\, 33402\, Avilés
ORGANIZER;CN="FUNDACI%C3%93N%20PARA%20EL%20FOMENTO%20DE%20LA%20ECONOM%C3%8DA%20SOCIAL":MAILTO:ffes@ffes.org
END:VEVENT
END:VCALENDAR